BEGIN:VCALENDAR
VERSION:2.0
PRODID:-//Ignite Network - ECPv4.5.2.1//NONSGML v1.0//EN
CALSCALE:GREGORIAN
METHOD:PUBLISH
X-WR-CALNAME:Ignite Network
X-ORIGINAL-URL:https://ignitenetwork.ie
X-WR-CALDESC:Events for Ignite Network
BEGIN:VEVENT
DTSTART;TZID=Europe/Dublin:20160612T131500
DTEND;TZID=Europe/Dublin:20160612T170000
DTSTAMP:20171103T092523
CREATED:20150514T153537Z
LAST-MODIFIED:20160601T123436Z
UID:2109-1465737300-1465750800@ignitenetwork.ie
SUMMARY:Dublin Bay Walk and Cycle Fundraiser
DESCRIPTION:Walk or cycle around Dublin Bay on Sunday 12th with friends to raise money for the Urban Junction Summer Programme.\n\nThe Walk is 10km or the Cycle is 30km. Meeting after Ignite (about 1.15pm) for some sandwiches then back to UJ for some tea & cakes afterwards!\n\nPick up a sponsorship card at the office or message and we'll send one to you.
URL:https://ignitenetwork.ie/event/dublin-bay-walk-and-cycle-fundraiser/
LOCATION:42 Main Street\, Blackrock\, Dublin\, Ireland
GEO:53.3010204;-6.176756
X-APPLE-STRUCTURED-LOCATION;VALUE=URI;X-ADDRESS=42 Main Street Blackrock Dublin Ireland;X-APPLE-RADIUS=500;X-TITLE=42 Main Street\, Blackrock:geo:-6.176756,53.3010204
CATEGORIES:Fundraising
ATTACH;FMTTYPE=image/jpeg:https://ignitenetwork.ie/app/uploads/2015/05/cycleFundraiser.jpg
END:VEVENT
END:VCALENDAR