BEGIN:VCALENDAR
VERSION:2.0
PRODID:-//Ignite Network - ECPv4.5.2.1//NONSGML v1.0//EN
CALSCALE:GREGORIAN
METHOD:PUBLISH
X-WR-CALNAME:Ignite Network
X-ORIGINAL-URL:https://ignitenetwork.ie
X-WR-CALDESC:Events for Ignite Network
BEGIN:VEVENT
DTSTART;TZID=Europe/Dublin:20150816T113000
DTEND;TZID=Europe/Dublin:20150816T130000
DTSTAMP:20171103T124918
CREATED:20141031T011517Z
LAST-MODIFIED:20150814T101429Z
UID:1461-1439724600-1439730000@ignitenetwork.ie
SUMMARY:Ignite @ The Orrs
DESCRIPTION:Ignite @ The Orrs House\n\nIgnite this Sunday will be a little different. We are meeting at the Orrs house in Shankill and will have a BBQ afterwards.\n\nEverybody is welcome and if you own a musical instrument then please do bring it along.\n\nThere will be time for Worship and Prayer during the morning followed by a BBQ and some outdoor games!\n\nFor more information contact Fiona or Alison.\n
URL:https://ignitenetwork.ie/event/ignite-2015-08-16/
LOCATION:42 Main Street\, Blackrock\, Dublin\, Ireland
GEO:53.3010204;-6.176756
X-APPLE-STRUCTURED-LOCATION;VALUE=URI;X-ADDRESS=42 Main Street Blackrock Dublin Ireland;X-APPLE-RADIUS=500;X-TITLE=42 Main Street\, Blackrock:geo:-6.176756,53.3010204
CATEGORIES:Worship
ATTACH;FMTTYPE=image/jpeg:https://ignitenetwork.ie/app/uploads/2014/10/igniteAtTheOrrs.jpg
END:VEVENT
END:VCALENDAR