BEGIN:VCALENDAR
VERSION:2.0
PRODID:-//Ignite Network - ECPv4.5.2.1//NONSGML v1.0//EN
CALSCALE:GREGORIAN
METHOD:PUBLISH
X-WR-CALNAME:Ignite Network
X-ORIGINAL-URL:https://ignitenetwork.ie
X-WR-CALDESC:Events for Ignite Network
BEGIN:VEVENT
DTSTART;VALUE=DATE:20160430
DTEND;VALUE=DATE:20160502
DTSTAMP:20171103T131256
CREATED:20160106T123043Z
LAST-MODIFIED:20160414T125242Z
UID:3202-1461974400-1462233599@ignitenetwork.ie
SUMMARY:Ignite Weekend Away
DESCRIPTION:We're off to stay at the Faith Mission centre in Durrow this year from a Saturday to a Monday. More info below!\n\n
URL:https://ignitenetwork.ie/event/ignite-weekend-away-2/
LOCATION:Durrow\, Laois
GEO:52.845268;-7.3965245
X-APPLE-STRUCTURED-LOCATION;VALUE=URI;X-ADDRESS=Durrow Laois;X-APPLE-RADIUS=500;X-TITLE=Durrow:geo:-7.3965245,52.845268
CATEGORIES:Community,Worship
ATTACH;FMTTYPE=image/jpeg:https://ignitenetwork.ie/app/uploads/2016/01/IMG_1383.jpg
END:VEVENT
END:VCALENDAR