BEGIN:VCALENDAR
VERSION:2.0
PRODID:-//Ignite Network - ECPv4.5.2.1//NONSGML v1.0//EN
CALSCALE:GREGORIAN
METHOD:PUBLISH
X-WR-CALNAME:Ignite Network
X-ORIGINAL-URL:https://ignitenetwork.ie
X-WR-CALDESC:Events for Ignite Network
BEGIN:VEVENT
DTSTART;TZID=Europe/Dublin:20151030T150000
DTEND;TZID=Europe/Dublin:20151030T171500
DTSTAMP:20171103T125306
CREATED:20151008T133129Z
LAST-MODIFIED:20151028T135230Z
UID:2710-1446217200-1446225300@ignitenetwork.ie
SUMMARY:Pulse
DESCRIPTION:The first Pulse event for secondary school age kicks off with a Halloween Party along with Quantum!\n\n \n\nJust for Pulse members though\, there'll be milkshakes after too until 5.15pm\n\n 
URL:https://ignitenetwork.ie/event/pulse/
LOCATION:42 Main Street\, Blackrock\, Dublin\, Ireland
GEO:53.3010204;-6.176756
X-APPLE-STRUCTURED-LOCATION;VALUE=URI;X-ADDRESS=42 Main Street Blackrock Dublin Ireland;X-APPLE-RADIUS=500;X-TITLE=42 Main Street\, Blackrock:geo:-6.176756,53.3010204
CATEGORIES:Pulse
ATTACH;FMTTYPE=image/jpeg:https://ignitenetwork.ie/app/uploads/2015/10/pulse.jpg
END:VEVENT
END:VCALENDAR