BEGIN:VCALENDAR
VERSION:2.0
PRODID:-//Ignite Network - ECPv4.5.2.1//NONSGML v1.0//EN
CALSCALE:GREGORIAN
METHOD:PUBLISH
X-WR-CALNAME:Ignite Network
X-ORIGINAL-URL:https://ignitenetwork.ie
X-WR-CALDESC:Events for Ignite Network
BEGIN:VEVENT
DTSTART;TZID=Europe/Dublin:20150718T103000
DTEND;TZID=Europe/Dublin:20150718T130000
DTSTAMP:20171103T093830
CREATED:20150715T124805Z
LAST-MODIFIED:20150715T124930Z
UID:2498-1437215400-1437224400@ignitenetwork.ie
SUMMARY:Street Tea Party
DESCRIPTION:Tea party for residents and friends of St Anne's Square!
URL:https://ignitenetwork.ie/event/street-tea-party/
LOCATION:Blackrock\, Co Dublin\, na\, Ireland
GEO:53.285235;-6.1672586
X-APPLE-STRUCTURED-LOCATION;VALUE=URI;X-ADDRESS=Blackrock Co Dublin na Ireland;X-APPLE-RADIUS=500;X-TITLE=Blackrock:geo:-6.1672586,53.285235
ATTACH;FMTTYPE=image/png:https://ignitenetwork.ie/app/uploads/2015/07/St-Annes-Poster.png
END:VEVENT
END:VCALENDAR