BEGIN:VCALENDAR
VERSION:2.0
PRODID:-//Ignite Network - ECPv4.5.2.1//NONSGML v1.0//EN
CALSCALE:GREGORIAN
METHOD:PUBLISH
X-WR-CALNAME:Ignite Network
X-ORIGINAL-URL:https://ignitenetwork.ie
X-WR-CALDESC:Events for Ignite Network
BEGIN:VEVENT
DTSTART;TZID=Europe/Dublin:20151016T193000
DTEND;TZID=Europe/Dublin:20151018T140000
DTSTAMP:20171103T125521
CREATED:20151015T122919Z
LAST-MODIFIED:20151015T122919Z
UID:2739-1445023800-1445176800@ignitenetwork.ie
SUMMARY:Young Adults Weekend
DESCRIPTION:18s - 30s\n\nStephen McCann speaking on the Saturday!\n\n€40 unwaged and €60 waged\n\nGet in touch with Wendy Kingston for more info
URL:https://ignitenetwork.ie/event/young-adults-weekend/
LOCATION:Durrow\, Laois
GEO:52.845268;-7.3965245
X-APPLE-STRUCTURED-LOCATION;VALUE=URI;X-ADDRESS=Durrow Laois;X-APPLE-RADIUS=500;X-TITLE=Durrow:geo:-7.3965245,52.845268
ATTACH;FMTTYPE=image/jpeg:https://ignitenetwork.ie/app/uploads/2015/10/Young-Adults.jpg
END:VEVENT
END:VCALENDAR